BEGIN:VCALENDAR
VERSION:2.0
PRODID:-//Memphis Rise Academy - ECPv6.15.20//NONSGML v1.0//EN
CALSCALE:GREGORIAN
METHOD:PUBLISH
X-ORIGINAL-URL:https://memphisrise.org
X-WR-CALDESC:Events for Memphis Rise Academy
REFRESH-INTERVAL;VALUE=DURATION:PT1H
X-Robots-Tag:noindex
X-PUBLISHED-TTL:PT1H
BEGIN:VTIMEZONE
TZID:America/Chicago
BEGIN:DAYLIGHT
TZOFFSETFROM:-0600
TZOFFSETTO:-0500
TZNAME:CDT
DTSTART:20180311T080000
END:DAYLIGHT
BEGIN:STANDARD
TZOFFSETFROM:-0500
TZOFFSETTO:-0600
TZNAME:CST
DTSTART:20181104T070000
END:STANDARD
BEGIN:DAYLIGHT
TZOFFSETFROM:-0600
TZOFFSETTO:-0500
TZNAME:CDT
DTSTART:20190310T080000
END:DAYLIGHT
BEGIN:STANDARD
TZOFFSETFROM:-0500
TZOFFSETTO:-0600
TZNAME:CST
DTSTART:20191103T070000
END:STANDARD
BEGIN:DAYLIGHT
TZOFFSETFROM:-0600
TZOFFSETTO:-0500
TZNAME:CDT
DTSTART:20200308T080000
END:DAYLIGHT
BEGIN:STANDARD
TZOFFSETFROM:-0500
TZOFFSETTO:-0600
TZNAME:CST
DTSTART:20201101T070000
END:STANDARD
BEGIN:DAYLIGHT
TZOFFSETFROM:-0600
TZOFFSETTO:-0500
TZNAME:CDT
DTSTART:20210314T080000
END:DAYLIGHT
BEGIN:STANDARD
TZOFFSETFROM:-0500
TZOFFSETTO:-0600
TZNAME:CST
DTSTART:20211107T070000
END:STANDARD
BEGIN:DAYLIGHT
TZOFFSETFROM:-0600
TZOFFSETTO:-0500
TZNAME:CDT
DTSTART:20220313T080000
END:DAYLIGHT
BEGIN:STANDARD
TZOFFSETFROM:-0500
TZOFFSETTO:-0600
TZNAME:CST
DTSTART:20221106T070000
END:STANDARD
END:VTIMEZONE
BEGIN:VEVENT
DTSTART;TZID=America/Chicago:20211214T184500
DTEND;TZID=America/Chicago:20211214T200000
DTSTAMP:20260422T112604
CREATED:20211028T135734Z
LAST-MODIFIED:20211028T135734Z
UID:1504-1639507500-1639512000@memphisrise.org
SUMMARY:MS Basketball @ Dexter
DESCRIPTION:
URL:https://memphisrise.org/event/ms-basketball-dexter/
LOCATION:Dexter Middle School\, 6998 Raleigh Lagrange Rd\, Cordova
CATEGORIES:Athletics
END:VEVENT
BEGIN:VEVENT
DTSTART;TZID=America/Chicago:20211214T180000
DTEND;TZID=America/Chicago:20211214T210000
DTSTAMP:20260422T112604
CREATED:20211028T141042Z
LAST-MODIFIED:20211028T141042Z
UID:1516-1639504800-1639515600@memphisrise.org
SUMMARY:Varsity Basketball vs. Soulsville
DESCRIPTION:Girls @ 6:00 pm\nBoys @ 7:30 pm
URL:https://memphisrise.org/event/varsity-basketball-vs-soulsville/
LOCATION:Memphis Rise Academy High School\, 5221 Raleigh Lagrange Road\, Memphis\, TN\, 38134\, United States
CATEGORIES:Athletics
END:VEVENT
BEGIN:VEVENT
DTSTART;TZID=America/Chicago:20211210T184500
DTEND;TZID=America/Chicago:20211210T200000
DTSTAMP:20260422T112604
CREATED:20211028T135631Z
LAST-MODIFIED:20211028T135631Z
UID:1503-1639161900-1639166400@memphisrise.org
SUMMARY:MS Basketball vs. Mt. Pisgah
DESCRIPTION:
URL:https://memphisrise.org/event/ms-basketball-vs-mt-pisgah-2/
LOCATION:Memphis Rise Academy High School\, 5221 Raleigh Lagrange Road\, Memphis\, TN\, 38134\, United States
CATEGORIES:Athletics
END:VEVENT
BEGIN:VEVENT
DTSTART;TZID=America/Chicago:20211209T180000
DTEND;TZID=America/Chicago:20211209T210000
DTSTAMP:20260422T112604
CREATED:20211028T140937Z
LAST-MODIFIED:20211028T140937Z
UID:1514-1639072800-1639083600@memphisrise.org
SUMMARY:Varsity Basketball @ Bluff City
DESCRIPTION:Girls @ 6:00 pm\nBoys @ 7:30 pm
URL:https://memphisrise.org/event/varsity-basketball-bluff-city/
LOCATION:Bluff City High School\, 4100 Ross Rd\, Memphis
CATEGORIES:Athletics
END:VEVENT
BEGIN:VEVENT
DTSTART;TZID=America/Chicago:20211208T184500
DTEND;TZID=America/Chicago:20211208T200000
DTSTAMP:20260422T112604
CREATED:20211028T135520Z
LAST-MODIFIED:20211028T135520Z
UID:1501-1638989100-1638993600@memphisrise.org
SUMMARY:MS Basketball @ Raleigh-Egypt
DESCRIPTION:
URL:https://memphisrise.org/event/ms-basketball-raleigh-egypt/
LOCATION:Raleigh-Egypt Middle School\, 3970 Voltaire Ave
CATEGORIES:Athletics
END:VEVENT
BEGIN:VEVENT
DTSTART;TZID=America/Chicago:20211206T180000
DTEND;TZID=America/Chicago:20211206T210000
DTSTAMP:20260422T112604
CREATED:20211028T140319Z
LAST-MODIFIED:20211028T140319Z
UID:1507-1638813600-1638824400@memphisrise.org
SUMMARY:Varsity Basketball @ Soulsville
DESCRIPTION:Girls @ 6:00 pm\nBoys @ 7:30 pm
URL:https://memphisrise.org/event/varsity-basketball-soulsville/
LOCATION:Soulsville\, 1115 College St\, Memphis
CATEGORIES:Athletics
END:VEVENT
BEGIN:VEVENT
DTSTART;TZID=America/Chicago:20211206T173000
DTEND;TZID=America/Chicago:20211206T190000
DTSTAMP:20260422T112604
CREATED:20211028T135350Z
LAST-MODIFIED:20211028T135350Z
UID:1499-1638811800-1638817200@memphisrise.org
SUMMARY:MS Basketball @ Memphis Business Academy
DESCRIPTION:
URL:https://memphisrise.org/event/ms-basketball-memphis-business-academy/
LOCATION:Memphis Business Academy\, 3306 Overton Crossing St\, Memphis
CATEGORIES:Athletics
END:VEVENT
BEGIN:VEVENT
DTSTART;TZID=America/Chicago:20211203T180000
DTEND;TZID=America/Chicago:20211203T190000
DTSTAMP:20260422T112604
CREATED:20211028T140748Z
LAST-MODIFIED:20211028T140748Z
UID:1512-1638554400-1638558000@memphisrise.org
SUMMARY:Girls Varsity Basketball @ Freedom Prep
DESCRIPTION:Girls varsity only; no boys varsity game.
URL:https://memphisrise.org/event/girls-varsity-basketball-freedom-prep/
LOCATION:Freedom Prep\, 817 Brownlee Rd\, Memphis
CATEGORIES:Athletics
END:VEVENT
BEGIN:VEVENT
DTSTART;TZID=America/Chicago:20211202T184500
DTEND;TZID=America/Chicago:20211202T200000
DTSTAMP:20260422T112604
CREATED:20211028T135224Z
LAST-MODIFIED:20211028T135224Z
UID:1498-1638470700-1638475200@memphisrise.org
SUMMARY:MS Basketball vs. Grandview
DESCRIPTION:
URL:https://memphisrise.org/event/ms-basketball-vs-grandview/
LOCATION:Memphis Rise Academy High School\, 5221 Raleigh Lagrange Road\, Memphis\, TN\, 38134\, United States
CATEGORIES:Athletics
END:VEVENT
BEGIN:VEVENT
DTSTART;TZID=America/Chicago:20211130T184500
DTEND;TZID=America/Chicago:20211130T200000
DTSTAMP:20260422T112604
CREATED:20211028T135133Z
LAST-MODIFIED:20211028T135133Z
UID:1496-1638297900-1638302400@memphisrise.org
SUMMARY:MS Basketball @ Journey-Coleman
DESCRIPTION:
URL:https://memphisrise.org/event/ms-basketball-journey-coleman/
LOCATION:Journey Coleman Middle School\, 3210 Raleigh Millington Rd
CATEGORIES:Athletics
END:VEVENT
BEGIN:VEVENT
DTSTART;TZID=America/Chicago:20211130T180000
DTEND;TZID=America/Chicago:20211130T190000
DTSTAMP:20260422T112604
CREATED:20211028T140611Z
LAST-MODIFIED:20211028T140611Z
UID:1511-1638295200-1638298800@memphisrise.org
SUMMARY:Girls Varsity Basketball vs. Compass School
DESCRIPTION:Girls varsity only; no boys varsity game.
URL:https://memphisrise.org/event/girls-varsity-basketball-vs-compass-school/
LOCATION:Memphis Rise Academy High School\, 5221 Raleigh Lagrange Road\, Memphis\, TN\, 38134\, United States
CATEGORIES:Athletics
END:VEVENT
BEGIN:VEVENT
DTSTART;TZID=America/Chicago:20211119T180000
DTEND;TZID=America/Chicago:20211119T190000
DTSTAMP:20260422T112604
CREATED:20211028T140503Z
LAST-MODIFIED:20211028T140503Z
UID:1509-1637344800-1637348400@memphisrise.org
SUMMARY:Girls Varsity Basketball @ Sheffield
DESCRIPTION:Girls varsity only; no boys varsity game.
URL:https://memphisrise.org/event/girls-varsity-basketball-sheffield/
LOCATION:Sheffield High School\, 4315 Sheffield Ave\, Memphis
CATEGORIES:Athletics
END:VEVENT
BEGIN:VEVENT
DTSTART;TZID=America/Chicago:20211118T184500
DTEND;TZID=America/Chicago:20211118T200000
DTSTAMP:20260422T112604
CREATED:20211028T135031Z
LAST-MODIFIED:20211028T135031Z
UID:1495-1637261100-1637265600@memphisrise.org
SUMMARY:MS Basketball vs. Dexter
DESCRIPTION:
URL:https://memphisrise.org/event/ms-basketball-vs-dexter/
LOCATION:Memphis Rise Academy High School\, 5221 Raleigh Lagrange Road\, Memphis\, TN\, 38134\, United States
CATEGORIES:Athletics
END:VEVENT
BEGIN:VEVENT
DTSTART;TZID=America/Chicago:20211117T180000
DTEND;TZID=America/Chicago:20211117T210000
DTSTAMP:20260422T112604
CREATED:20211028T135951Z
LAST-MODIFIED:20211028T140020Z
UID:1506-1637172000-1637182800@memphisrise.org
SUMMARY:Varsity Basketball vs. Bluff City
DESCRIPTION:Girls @ 6:00 pm\nBoys @ 7:30 pm
URL:https://memphisrise.org/event/varsity-basketball-vs-bluff-city/
LOCATION:Memphis Rise Academy High School\, 5221 Raleigh Lagrange Road\, Memphis\, TN\, 38134\, United States
CATEGORIES:Athletics
END:VEVENT
BEGIN:VEVENT
DTSTART;TZID=America/Chicago:20211116T184500
DTEND;TZID=America/Chicago:20211116T200000
DTSTAMP:20260422T112604
CREATED:20211028T134938Z
LAST-MODIFIED:20211028T134938Z
UID:1494-1637088300-1637092800@memphisrise.org
SUMMARY:MS Basketball vs. Raleigh-Egypt
DESCRIPTION:
URL:https://memphisrise.org/event/ms-basketball-vs-raleigh-egypt/
LOCATION:Memphis Rise Academy High School\, 5221 Raleigh Lagrange Road\, Memphis\, TN\, 38134\, United States
CATEGORIES:Athletics
END:VEVENT
BEGIN:VEVENT
DTSTART;TZID=America/Chicago:20211108T184500
DTEND;TZID=America/Chicago:20211108T200000
DTSTAMP:20260422T112604
CREATED:20211028T134831Z
LAST-MODIFIED:20211028T134831Z
UID:1492-1636397100-1636401600@memphisrise.org
SUMMARY:MS Basketball @ Grandview
DESCRIPTION:
URL:https://memphisrise.org/event/ms-basketball-grandview/
LOCATION:Grandview Heights Middle School\, 2342 Clifton Ave\, Memphis
CATEGORIES:Athletics
END:VEVENT
BEGIN:VEVENT
DTSTART;TZID=America/Chicago:20211103T184500
DTEND;TZID=America/Chicago:20211103T200000
DTSTAMP:20260422T112604
CREATED:20211028T134505Z
LAST-MODIFIED:20211028T134713Z
UID:1489-1635965100-1635969600@memphisrise.org
SUMMARY:MS Basketball @ Mt. Pisgah
DESCRIPTION:
URL:https://memphisrise.org/event/ms-basketball-vs-mt-pisgah/
LOCATION:Mt. Pisgah Middle School\, 1444 Pisgah Rd\, Cordova
CATEGORIES:Athletics
END:VEVENT
BEGIN:VEVENT
DTSTART;TZID=America/Chicago:20211101T173000
DTEND;TZID=America/Chicago:20211101T190000
DTSTAMP:20260422T112604
CREATED:20211028T134320Z
LAST-MODIFIED:20211028T134320Z
UID:1488-1635787800-1635793200@memphisrise.org
SUMMARY:MS Basketball vs. Memphis Business Academy
DESCRIPTION:
URL:https://memphisrise.org/event/ms-basketball-vs-memphis-business-academy/
LOCATION:Memphis Rise Academy High School\, 5221 Raleigh Lagrange Road\, Memphis\, TN\, 38134\, United States
CATEGORIES:Athletics
END:VEVENT
BEGIN:VEVENT
DTSTART;TZID=America/Chicago:20211028T080000
DTEND;TZID=America/Chicago:20211028T170000
DTSTAMP:20260422T112604
CREATED:20211028T142034Z
LAST-MODIFIED:20211028T142034Z
UID:1526-1635408000-1635440400@memphisrise.org
SUMMARY:Varsity Basketball @ Douglass High School
DESCRIPTION:Girls @ 6:00 pm\nBoys @ 7:30 pm
URL:https://memphisrise.org/event/varsity-basketball-douglass-high-school/
LOCATION:Douglass High School\, 3200 Mt Olive Rd\, Memphis\, TN\, 38108\, United States
CATEGORIES:Athletics
END:VEVENT
BEGIN:VEVENT
DTSTART;TZID=America/Chicago:20211016T160000
DTEND;TZID=America/Chicago:20211016T180000
DTSTAMP:20260422T112604
CREATED:20210928T203137Z
LAST-MODIFIED:20210929T152149Z
UID:1463-1634400000-1634407200@memphisrise.org
SUMMARY:MYA County Cross Country Championship @ Shelby Farms
DESCRIPTION:
URL:https://memphisrise.org/event/mya-county-cross-country-championship-shelby-farms/
LOCATION:Shelby Farms\, 6903 Great View Dr N\, Memphis\, TN\, 38134\, United States
CATEGORIES:Athletics
END:VEVENT
BEGIN:VEVENT
DTSTART;TZID=America/Chicago:20211007T180000
DTEND;TZID=America/Chicago:20211007T193000
DTSTAMP:20260422T112604
CREATED:20210928T202722Z
LAST-MODIFIED:20210929T152045Z
UID:1458-1633629600-1633635000@memphisrise.org
SUMMARY:TSSAA District Girls Soccer Finals
DESCRIPTION:
URL:https://memphisrise.org/event/tssaa-district-girls-soccer-finals-cordova-stadium/
LOCATION:Cordova High School\, 1800 Berryhill Rd\, Memphis\, TN\, 38106\, United States
CATEGORIES:Athletics
END:VEVENT
BEGIN:VEVENT
DTSTART;TZID=America/Chicago:20211007T150000
DTEND;TZID=America/Chicago:20211007T170000
DTSTAMP:20260422T112604
CREATED:20210928T202928Z
LAST-MODIFIED:20210929T151943Z
UID:1459-1633618800-1633626000@memphisrise.org
SUMMARY:SCIAA City Cross Country Championship @ Shelby Farms
DESCRIPTION:
URL:https://memphisrise.org/event/sciaa-city-cross-country-championship-shelby-farms/
LOCATION:Shelby Farms\, 6903 Great View Dr N\, Memphis\, TN\, 38134\, United States
CATEGORIES:Athletics
END:VEVENT
BEGIN:VEVENT
DTSTART;TZID=America/Chicago:20211006T180000
DTEND;TZID=America/Chicago:20211006T193000
DTSTAMP:20260422T112604
CREATED:20210928T202554Z
LAST-MODIFIED:20210929T151835Z
UID:1457-1633543200-1633548600@memphisrise.org
SUMMARY:Girls Soccer Divisionals vs. Craigmont HS
DESCRIPTION:
URL:https://memphisrise.org/event/tssaa-district-girls-soccer-tournament-cordova-stadium/
LOCATION:Cordova High School\, 1800 Berryhill Rd\, Memphis\, TN\, 38106\, United States
CATEGORIES:Athletics
END:VEVENT
BEGIN:VEVENT
DTSTART;TZID=America/Chicago:20211004T173000
DTEND;TZID=America/Chicago:20211004T190000
DTSTAMP:20260422T112604
CREATED:20210928T202403Z
LAST-MODIFIED:20210929T152346Z
UID:1455-1633368600-1633374000@memphisrise.org
SUMMARY:HS Girls Soccer @ Cordova High
DESCRIPTION:
URL:https://memphisrise.org/event/hs-girls-soccer-v-cordova-high/
LOCATION:Cordova High School\, 1800 Berryhill Rd\, Memphis\, TN\, 38106\, United States
CATEGORIES:Athletics
END:VEVENT
BEGIN:VEVENT
DTSTART;TZID=America/Chicago:20210930T173000
DTEND;TZID=America/Chicago:20210930T183000
DTSTAMP:20260422T112604
CREATED:20210929T152305Z
LAST-MODIFIED:20210929T152443Z
UID:1486-1633023000-1633026600@memphisrise.org
SUMMARY:Girls Soccer vs. Overton HS
DESCRIPTION:
URL:https://memphisrise.org/event/girls-soccer-v-overton-hs/
LOCATION:Willow Road Park\, 4971 Willow Rd\, Memphis\, TN\, 38117\, United States
CATEGORIES:Athletics
END:VEVENT
BEGIN:VEVENT
DTSTART;TZID=America/Chicago:20210930T170000
DTEND;TZID=America/Chicago:20210930T190000
DTSTAMP:20260422T112604
CREATED:20210929T151724Z
LAST-MODIFIED:20210929T151724Z
UID:1484-1633021200-1633028400@memphisrise.org
SUMMARY:Cross Country (SCIAA #5) @ Shelby Farms
DESCRIPTION:
URL:https://memphisrise.org/event/cross-country-sciaa-5-shelby-farms/
LOCATION:Shelby Farms\, 6903 Great View Dr N\, Memphis\, TN\, 38134\, United States
CATEGORIES:Athletics
END:VEVENT
BEGIN:VEVENT
DTSTART;TZID=America/Chicago:20190927T180000
DTEND;TZID=America/Chicago:20190927T200000
DTSTAMP:20260422T112604
CREATED:20190903T145624Z
LAST-MODIFIED:20190903T145624Z
UID:764-1569607200-1569614400@memphisrise.org
SUMMARY:Volleyball vs. Regents
DESCRIPTION:
URL:https://memphisrise.org/event/volleyball-vs-regents-2/
LOCATION:Regents School of Oxford\, 14 Co Rd 130\, Oxford\, MS\, 38655\, United States
CATEGORIES:Athletics
END:VEVENT
BEGIN:VEVENT
DTSTART;TZID=America/Chicago:20190926T170000
DTEND;TZID=America/Chicago:20190926T190000
DTSTAMP:20260422T112604
CREATED:20190903T145526Z
LAST-MODIFIED:20190903T145526Z
UID:762-1569517200-1569524400@memphisrise.org
SUMMARY:Girls Soccer vs. Southwest
DESCRIPTION:
URL:https://memphisrise.org/event/girls-soccer-vs-southwest/
LOCATION:TN
CATEGORIES:Athletics
END:VEVENT
BEGIN:VEVENT
DTSTART;TZID=America/Chicago:20190925T170000
DTEND;TZID=America/Chicago:20190925T190000
DTSTAMP:20260422T112604
CREATED:20190917T122133Z
LAST-MODIFIED:20190917T122133Z
UID:798-1569430800-1569438000@memphisrise.org
SUMMARY:Girls Soccer vs. MBA
DESCRIPTION:
URL:https://memphisrise.org/event/girls-soccer-vs-mba/
LOCATION:Kennedy Park\, 4575 Raleigh Lagrange Rd\, Memphis\, TN\, 38128\, United States
CATEGORIES:Athletics
END:VEVENT
BEGIN:VEVENT
DTSTART;TZID=America/Chicago:20190924T170000
DTEND;TZID=America/Chicago:20190924T190000
DTSTAMP:20260422T112604
CREATED:20190903T145131Z
LAST-MODIFIED:20190903T145131Z
UID:759-1569344400-1569351600@memphisrise.org
SUMMARY:Volleyball vs. Trezvant
DESCRIPTION:
URL:https://memphisrise.org/event/volleyball-vs-trezvant/
LOCATION:Trezevant High School\, 3350 N Trezevant St\, Memphis\, TN\, 38127\, United States
CATEGORIES:Athletics
END:VEVENT
END:VCALENDAR