BEGIN:VCALENDAR
VERSION:2.0
PRODID:-//Memphis Rise Academy - ECPv6.15.20//NONSGML v1.0//EN
CALSCALE:GREGORIAN
METHOD:PUBLISH
X-WR-CALNAME:Memphis Rise Academy
X-ORIGINAL-URL:https://memphisrise.org
X-WR-CALDESC:Events for Memphis Rise Academy
REFRESH-INTERVAL;VALUE=DURATION:PT1H
X-Robots-Tag:noindex
X-PUBLISHED-TTL:PT1H
BEGIN:VTIMEZONE
TZID:America/Chicago
BEGIN:DAYLIGHT
TZOFFSETFROM:-0600
TZOFFSETTO:-0500
TZNAME:CDT
DTSTART:20180311T080000
END:DAYLIGHT
BEGIN:STANDARD
TZOFFSETFROM:-0500
TZOFFSETTO:-0600
TZNAME:CST
DTSTART:20181104T070000
END:STANDARD
BEGIN:DAYLIGHT
TZOFFSETFROM:-0600
TZOFFSETTO:-0500
TZNAME:CDT
DTSTART:20190310T080000
END:DAYLIGHT
BEGIN:STANDARD
TZOFFSETFROM:-0500
TZOFFSETTO:-0600
TZNAME:CST
DTSTART:20191103T070000
END:STANDARD
BEGIN:DAYLIGHT
TZOFFSETFROM:-0600
TZOFFSETTO:-0500
TZNAME:CDT
DTSTART:20200308T080000
END:DAYLIGHT
BEGIN:STANDARD
TZOFFSETFROM:-0500
TZOFFSETTO:-0600
TZNAME:CST
DTSTART:20201101T070000
END:STANDARD
END:VTIMEZONE
BEGIN:VEVENT
DTSTART;TZID=America/Chicago:20190823T170000
DTEND;TZID=America/Chicago:20190823T183000
DTSTAMP:20260422T181718
CREATED:20190822T122949Z
LAST-MODIFIED:20190822T122949Z
UID:660-1566579600-1566585000@memphisrise.org
SUMMARY:Girls' Soccer vs. KIPP Memphis Collegiate
DESCRIPTION:
URL:https://memphisrise.org/event/girls-soccer-vs-kipp-memphis-collegiate/
LOCATION:Willow Road Park\, 4971 Willow Rd\, Memphis\, TN\, 38117\, United States
CATEGORIES:Athletics
END:VEVENT
BEGIN:VEVENT
DTSTART;TZID=America/Chicago:20190821T180000
DTEND;TZID=America/Chicago:20190821T193000
DTSTAMP:20260422T181718
CREATED:20190822T122649Z
LAST-MODIFIED:20190822T122649Z
UID:658-1566410400-1566415800@memphisrise.org
SUMMARY:Boys Basketball Tryouts
DESCRIPTION:
URL:https://memphisrise.org/event/boys-basketball-tryouts/
CATEGORIES:Athletics
END:VEVENT
BEGIN:VEVENT
DTSTART;TZID=America/Chicago:20190821T170000
DTEND;TZID=America/Chicago:20190821T190000
DTSTAMP:20260422T181718
CREATED:20190821T122436Z
LAST-MODIFIED:20190822T122545Z
UID:656-1566406800-1566414000@memphisrise.org
SUMMARY:Volleyball vs. Trezevant High
DESCRIPTION:
URL:https://memphisrise.org/event/volleyball-vs-trezevant-high/
CATEGORIES:Athletics
END:VEVENT
BEGIN:VEVENT
DTSTART;VALUE=DATE:20190820
DTEND;VALUE=DATE:20190823
DTSTAMP:20260422T181718
CREATED:20190817T142207Z
LAST-MODIFIED:20190818T002000Z
UID:579-1566259200-1566518399@memphisrise.org
SUMMARY:Middle School Girls' Soccer Tryouts
DESCRIPTION:Middle school girls’ soccer tryouts will take place Tuesday\, Aug. 20\, through Thursday\, Aug. 22 from 4:30 p.m. to 6 p.m. The high school girls’ soccer team has already begun practices. Soccer practices take place at Raleigh Bartlett Meadows Park\, but parents should drop off and/or pick up their students at Memphis Rise Academy Middle School \nEmail Frances Leslie for more information: fleslie@memphisrise.org
URL:https://memphisrise.org/event/middle-school-girls-soccer-tryouts/
CATEGORIES:Athletics
END:VEVENT
BEGIN:VEVENT
DTSTART;TZID=America/Chicago:20190815T160000
DTEND;TZID=America/Chicago:20190815T180000
DTSTAMP:20260422T181718
CREATED:20190812T132658Z
LAST-MODIFIED:20190812T132658Z
UID:548-1565884800-1565892000@memphisrise.org
SUMMARY:Volleyball Practice
DESCRIPTION:
URL:https://memphisrise.org/event/volleyball-practice-3/
LOCATION:Agape Gym
CATEGORIES:Athletics
END:VEVENT
BEGIN:VEVENT
DTSTART;TZID=America/Chicago:20190813T160000
DTEND;TZID=America/Chicago:20190813T180000
DTSTAMP:20260422T181718
CREATED:20190812T132602Z
LAST-MODIFIED:20190812T132602Z
UID:547-1565712000-1565719200@memphisrise.org
SUMMARY:Volleyball Practice
DESCRIPTION:
URL:https://memphisrise.org/event/volleyball-practice-2/
LOCATION:Agape Gym
CATEGORIES:Athletics
END:VEVENT
BEGIN:VEVENT
DTSTART;TZID=America/Chicago:20190812T160000
DTEND;TZID=America/Chicago:20190812T180000
DTSTAMP:20260422T181718
CREATED:20190812T132502Z
LAST-MODIFIED:20190812T132738Z
UID:545-1565625600-1565632800@memphisrise.org
SUMMARY:Volleyball Practice
DESCRIPTION:
URL:https://memphisrise.org/event/volleyball-practice/
LOCATION:Agape Gym
CATEGORIES:Athletics
END:VEVENT
END:VCALENDAR