BEGIN:VCALENDAR
VERSION:2.0
PRODID:-//Memphis Rise Academy - ECPv6.15.20//NONSGML v1.0//EN
CALSCALE:GREGORIAN
METHOD:PUBLISH
X-ORIGINAL-URL:https://memphisrise.org
X-WR-CALDESC:Events for Memphis Rise Academy
REFRESH-INTERVAL;VALUE=DURATION:PT1H
X-Robots-Tag:noindex
X-PUBLISHED-TTL:PT1H
BEGIN:VTIMEZONE
TZID:America/Chicago
BEGIN:DAYLIGHT
TZOFFSETFROM:-0600
TZOFFSETTO:-0500
TZNAME:CDT
DTSTART:20200308T080000
END:DAYLIGHT
BEGIN:STANDARD
TZOFFSETFROM:-0500
TZOFFSETTO:-0600
TZNAME:CST
DTSTART:20201101T070000
END:STANDARD
BEGIN:DAYLIGHT
TZOFFSETFROM:-0600
TZOFFSETTO:-0500
TZNAME:CDT
DTSTART:20210314T080000
END:DAYLIGHT
BEGIN:STANDARD
TZOFFSETFROM:-0500
TZOFFSETTO:-0600
TZNAME:CST
DTSTART:20211107T070000
END:STANDARD
BEGIN:DAYLIGHT
TZOFFSETFROM:-0600
TZOFFSETTO:-0500
TZNAME:CDT
DTSTART:20220313T080000
END:DAYLIGHT
BEGIN:STANDARD
TZOFFSETFROM:-0500
TZOFFSETTO:-0600
TZNAME:CST
DTSTART:20221106T070000
END:STANDARD
END:VTIMEZONE
BEGIN:VEVENT
DTSTART;VALUE=DATE:20211001
DTEND;VALUE=DATE:20211002
DTSTAMP:20260422T100923
CREATED:20210928T202102Z
LAST-MODIFIED:20210928T204326Z
UID:1453-1633046400-1633132799@memphisrise.org
SUMMARY:Applications Open for 2022-2023 School Year
DESCRIPTION:Start of applications/waitlist for 2022-2023 school year. Get more information on how to apply here.
URL:https://memphisrise.org/event/start-of-applications-waitlist-for-2022-2023-school-year/
LOCATION:TN
CATEGORIES:News & Updates
END:VEVENT
BEGIN:VEVENT
DTSTART;TZID=America/Chicago:20210928T173000
DTEND;TZID=America/Chicago:20210928T183000
DTSTAMP:20260422T100923
CREATED:20210928T203900Z
LAST-MODIFIED:20210928T204344Z
UID:1466-1632850200-1632853800@memphisrise.org
SUMMARY:Annual Title I Meeting
DESCRIPTION:We would like to invite you again to our Annual Title I meeting here at Memphis Rise Academy on Tuesday\, September 28th\, at 5:30 p.m. in the Multi-Purpose Room (MPR). We will also be offering this meeting virtually on Zoom. At this meeting\, you will gain insight into MRA’s Title I participation\, achievement\, School Improvement Plan\, and how you can be involved in the Title I process. \nClick here for more details.
URL:https://memphisrise.org/event/annual-title-i-meeting/
LOCATION:Memphis Rise Academy High School\, 5221 Raleigh Lagrange Road\, Memphis\, TN\, 38134\, United States
CATEGORIES:News & Updates
END:VEVENT
END:VCALENDAR