BEGIN:VCALENDAR
VERSION:2.0
PRODID:-//Memphis Rise Academy - ECPv6.15.20//NONSGML v1.0//EN
CALSCALE:GREGORIAN
METHOD:PUBLISH
X-ORIGINAL-URL:https://memphisrise.org
X-WR-CALDESC:Events for Memphis Rise Academy
REFRESH-INTERVAL;VALUE=DURATION:PT1H
X-Robots-Tag:noindex
X-PUBLISHED-TTL:PT1H
BEGIN:VTIMEZONE
TZID:America/Chicago
BEGIN:DAYLIGHT
TZOFFSETFROM:-0600
TZOFFSETTO:-0500
TZNAME:CDT
DTSTART:20200308T080000
END:DAYLIGHT
BEGIN:STANDARD
TZOFFSETFROM:-0500
TZOFFSETTO:-0600
TZNAME:CST
DTSTART:20201101T070000
END:STANDARD
BEGIN:DAYLIGHT
TZOFFSETFROM:-0600
TZOFFSETTO:-0500
TZNAME:CDT
DTSTART:20210314T080000
END:DAYLIGHT
BEGIN:STANDARD
TZOFFSETFROM:-0500
TZOFFSETTO:-0600
TZNAME:CST
DTSTART:20211107T070000
END:STANDARD
BEGIN:DAYLIGHT
TZOFFSETFROM:-0600
TZOFFSETTO:-0500
TZNAME:CDT
DTSTART:20220313T080000
END:DAYLIGHT
BEGIN:STANDARD
TZOFFSETFROM:-0500
TZOFFSETTO:-0600
TZNAME:CST
DTSTART:20221106T070000
END:STANDARD
END:VTIMEZONE
BEGIN:VEVENT
DTSTART;TZID=America/Chicago:20211030T100000
DTEND;TZID=America/Chicago:20211030T140000
DTSTAMP:20260422T102935
CREATED:20210928T201753Z
LAST-MODIFIED:20210928T203959Z
UID:1452-1635588000-1635602400@memphisrise.org
SUMMARY:FAFSA & Financial Aid Support for Class of 2022
DESCRIPTION:
URL:https://memphisrise.org/event/fafsa-financial-aid-support-for-class-of-2022-10am-2pm/
LOCATION:Memphis Rise Academy High School\, 5221 Raleigh Lagrange Road\, Memphis\, TN\, 38134\, United States
CATEGORIES:Post-Secondary Events
ORGANIZER;CN="Amanda Villani":MAILTO:avillani@memphisrise.org
END:VEVENT
BEGIN:VEVENT
DTSTART;TZID=America/Chicago:20211006T173000
DTEND;TZID=America/Chicago:20211006T183000
DTSTAMP:20260422T102935
CREATED:20210928T201505Z
LAST-MODIFIED:20210928T204157Z
UID:1450-1633541400-1633545000@memphisrise.org
SUMMARY:Class of 2022 Family Post-Secondary Information Session
DESCRIPTION:
URL:https://memphisrise.org/event/co2022-family-post-secondary-information-session-530pm/
LOCATION:Memphis Rise Academy High School\, 5221 Raleigh Lagrange Road\, Memphis\, TN\, 38134\, United States
CATEGORIES:Post-Secondary Events
ORGANIZER;CN="Amanda Villani":MAILTO:avillani@memphisrise.org
END:VEVENT
END:VCALENDAR